Workbook
Name _Экспорт: #REF!
Name _Экспорт: #REF!
Name классность: [1]Справочники!#REF!
Name наименование: #REF!
Name наименование: #REF!
Name Перечень_МО: #REF!
Name Перечень_МО: #REF!
Name признак: [1]Справочники!#REF!
Name признак: [1]Справочники!#REF!
Name Список: #REF!
Name Список: #REF!

Sheet СВОД.БР на03102025
A1: Приложение к постановлению местной администрации МО МО Автово от 03 октября 2025года № 31-п
A2: Глава местной администрации МО МО Автово ____________ А.В.Кесаев
A4: СВОДНАЯ БЮДЖЕТНАЯ РОСПИСЬ МУНИЦИПАЛЬНОГО ОБРАЗОВАНИЯ МУНИЦИПАЛЬНЫЙ ОКРУГ АВТОВО НА 2025 ГОД И ПЛАНОВЫЙ ПЕРИОД 2026-2027 Г
A6: Главные распорядители средств местного бюджета МО МО Автово : муниципальный совет МО Автово (код 964), местная администрация МО МО Автово (код 928)
A8: Наименование | B8: Код раздела, подраздела | C8: Код целевой статьи | D8: Код вида расходов (группа, подгруппа, элемент) | E8: Сумма (тыс.руб.)2025 г | F8: плановый период
F9: 2026 | G9: 2027
A10: Муниципальный совет внутригородского муниципального образования города федерального значения Санкт-Петербурга муниципальный округ Автово (код главного распорядителя бюджетных средств 964) | E10: =E11 -> 9673.4 | F10: =F11 -> 10118.9 | G10: =G11 -> 10508
A11: Общегосударственные вопросы | B11: 0100 | E11: =E12+E18+E37 -> 9673.4 | F11: =F12+F18+F37 -> 10118.9 | G11: =G12+G18+G37 -> 10508
A12: Функционирование высшего должностного лица субъекта Российской Федерации и муниципального образования | B12: 0102 | E12: =E13 -> 2500.3 | F12: =F13 -> 2597.9 | G12: =G13 -> 2699.2
A13: Глава муниципального образования | B13: 0102 | C13: 00201 00011 | E13: =E14 -> 2500.3 | F13: =F14 -> 2597.9 | G13: =G14 -> 2699.2
A14: Расходы на выплаты персоналу в целях обеспечения выполнения функций государственными (муниципальными) органами, казенными учреждениями, органами управления государственными внебюджетными фондами | B14: 0102 | C14: 00201 00011 | D14: 100 | E14: =E15 -> 2500.3 | F14: =F15 -> 2597.9 | G14: =G15 -> 2699.2
A15: Расходы на выплаты персоналу государственных (муниципальных) органов | B15: 0102 | C15: 00201 00011 | D15: 120 | E15: =E16+E17 -> 2500.3 | F15: =F16+F17 -> 2597.9 | G15: =G16+G17 -> 2699.2
A16: Фонд оплаты труда государственных (муниципальных) органов | B16: 0102 | C16: 00201 00011 | D16: 121 | E16: =[2]БР_МС_01092025!F18 -> 1920.3 | F16: =[2]БР_МС_01092025!G16 -> 1995.3 | G16: =[2]БР_МС_01092025!H16 -> 2073.1
A17: Взносы по обязательному социальному страхованию на выплаты денежного содержания и иные выплаты работникам государственных (муниципальных) органов | B17: 0102 | C17: 00201 00011 | D17: 129 | E17: =[2]БР_МС_01092025!F23 -> 580 | F17: =[2]БР_МС_01092025!G21 -> 602.6 | G17: =[2]БР_МС_01092025!H21 -> 626.1
A18: Функционирование законодательных (представительных) органов государственной власти и представительных органов муниципальных образований | B18: 0103 | E18: =E19+E23 -> 6992.1 | F18: =F19+F23 -> 7377 | G18: =G19+G23 -> 7664.8
A19: Компенсация депутатам, осуществляющим свои полномочия на непостоянной основе | B19: 0103 | C19: 00203 00022 | E19: =E20 -> 388.7 | F19: =F20 -> 404 | G19: =G20 -> 419.7
A20: Расходы на выплаты персоналу в целях обеспечения выполнения функций государственными (муниципальными) органами, казенными учреждениями, органами управления государственными внебюджетными фондами | B20: 0103 | C20: 00203 00022 | D20: 100 | E20: =E21 -> 388.7 | F20: =F21 -> 404 | G20: =G21 -> 419.7
A21: Расходы на выплаты персоналу государственных (муниципальных) органов | B21: 0103 | C21: 00203 00022 | D21: 120 | E21: =E22 -> 388.7 | F21: =F22 -> 404 | G21: =G22 -> 419.7
A22: Иные выплаты государственных (муниципальных) органов привлекаемым лицам | B22: 0103 | C22: 00203 00022 | D22: 123 | E22: =[2]БР_МС_01092025!F28 -> 388.7 | F22: =[2]БР_МС_01092025!G28 -> 404 | G22: =[2]БР_МС_01092025!H28 -> 419.7
A23: Аппарат представительного органа муниципального образования | B23: 0103 | C23: 00204 00021 | E23: =E24+E28+E32 -> 6603.4 | F23: =F24+F28+F32 -> 6973 | G23: =G24+G28+G32 -> 7245.1
A24: Расходы на выплаты персоналу в целях обеспечения выполнения функций государственными (муниципальными) органами, казенными учреждениями, органами управления государственными внебюджетными фондами | B24: 0103 | C24: 00204 00021 | D24: 100 | E24: =E25 -> 3583.9 | F24: =F25 -> 3724 | G24: =G25 -> 3869.3
A25: Расходы на выплаты персоналу государственных (муниципальных) органов | B25: 0103 | C25: 00204 00021 | D25: 120 | E25: =E26+E27 -> 3583.9 | F25: =F26+F27 -> 3724 | G25: =G26+G27 -> 3869.3
A26: Фонд оплаты труда государственных (муниципальных) органов | B26: 0103 | C26: 00204 00021 | D26: 121 | E26: =[2]БР_МС_01092025!F34 -> 2752.6 | F26: =[2]БР_МС_01092025!G35 -> 2860.2 | G26: =[2]БР_МС_01092025!H35 -> 2971.8
A27: Взносы по обязательному социальному страхованию на выплаты денежного содержания и иные выплаты работникам государственных (муниципальных) органов | B27: 0103 | C27: 00204 00021 | D27: 129 | E27: =[2]БР_МС_01092025!F39 -> 831.3 | F27: =[2]БР_МС_01092025!G40 -> 863.8 | G27: =[2]БР_МС_01092025!H40 -> 897.5
A28: Закупка товаров, работ и услуг для обеспечения государственных (муниципальных) нужд | B28: 0103 | C28: 00204 00021 | D28: 200 | E28: =E29 -> 3010.4 | F28: =F29 -> 3239.9 | G28: =G29 -> 3366.7
A29: Иные закупки товаров, работ и услуг для обеспечения государственных (муниципальных) нужд | B29: 0103 | C29: 00204 00021 | D29: 240 | E29: =E30+E31 -> 3010.4 | F29: =F30+F31 -> 3239.9 | G29: =G30+G31 -> 3366.7
A30: Прочая закупка товаров, работ и услуг | B30: 0103 | C30: 00204 00021 | D30: 244 | E30: =[2]БР_МС_01092025!F44 -> 2849.5 | F30: 3109.9 | G30: =[2]БР_МС_01092025!H44 -> 3231.7
A31: Закупка энергетических ресурсов | B31: 0103 | C31: 00204 00021 | D31: 247 | E31: =[2]БР_МС_01092025!F59 -> 160.9 | F31: =[2]БР_МС_01092025!G59 -> 130 | G31: =[2]БР_МС_01092025!H59 -> 135
A32: Иные бюджетные ассигнования | B32: 0103 | C32: 00204 00021 | D32: 800 | E32: =E33 -> 9.1 | F32: =F33 -> 9.1 | G32: =G33 -> 9.1
A33: Уплата налогов, сборов и иных платежей | B33: 0103 | C33: 00204 00021 | D33: 850 | E33: =E34+E35+E36 -> 9.1 | F33: =F34+F35+F36 -> 9.1 | G33: =G34+G35+G36 -> 9.1
A34: Уплата налога на имущество организаций и земельного налога | B34: 0103 | C34: 00204 00021 | D34: 851 | E34: =[2]БР_МС_01092025!F63 -> 0 | F34: =[2]БР_МС_01092025!G63 -> 0 | G34: =[2]БР_МС_01092025!H63 -> 0
A35: Уплата прочих налогов, сборов | B35: 0103 | C35: 00204 00021 | D35: 852 | E35: =[2]БР_МС_01092025!F66 -> 8.1 | F35: =[2]БР_МС_01092025!G67 -> 8.1 | G35: =[2]БР_МС_01092025!H67 -> 8.1
A36: Уплата иных платежей | B36: 0103 | C36: 00204 00021 | D36: 853 | E36: =[2]БР_МС_01092025!F69 -> 1 | F36: =[2]БР_МС_01092025!G69 -> 1 | G36: =[2]БР_МС_01092025!H69 -> 1
A37: ДРУГИЕ ОБЩЕГОСУДАРСТВЕННЫЕ ВОПРОСЫ | B37: 0113 | E37: =E38+E42 -> 181 | F37: =F38 -> 144 | G37: =G38 -> 144
A38: Уплата членских взносов на осуществление деятельности Совета муниципальных образований Санкт-Петербурга и содержание его органов | B38: 0113 | C38: 09205 00441 | E38: =E39 -> 144 | F38: =F39 -> 144 | G38: =G39 -> 144
A39: Иные бюджетные ассигнования | B39: 0113 | C39: 09205 00441 | D39: 800 | E39: =E40 -> 144 | F39: =F40 -> 144 | G39: =G40 -> 144
A40: Уплата прочих налогов, сборов и иных платежей | B40: 0113 | C40: 09205 00441 | D40: 850 | E40: =E41 -> 144 | F40: =F41 -> 144 | G40: =G41 -> 144
A41: Уплата иных платежей | B41: 0113 | C41: 09205 00441 | D41: 853 | E41: =[2]БР_МС_01092025!F79 -> 144 | F41: =[2]БР_МС_01092025!G77 -> 144 | G41: =[2]БР_МС_01092025!H77 -> 144
A42: Уплата добровольного целевого взноса членов Совета муниципальных образований Санкт-Петербурга на организацию празднования 20-летия Совета муниципальных образований Санкт-Петербура | B42: 0113 | C42: 09208 00442 | E42: =E43 -> 37 | F42: =F43 -> 0 | G42: =G43 -> 0
A43: Иные бюджетные ассигнования | B43: 0113 | C43: 09208 00442 | D43: 800 | E43: =E44 -> 37 | F43: =F44 -> 0 | G43: =G44 -> 0
...
